BEGIN:VCALENDAR
VERSION:2.0
PRODID:-//ChamberMaster//Event Calendar 2.0//EN
METHOD:PUBLISH
X-PUBLISHED-TTL:P3D
REFRESH-INTERVAL:P3D
CALSCALE:GREGORIAN
BEGIN:VEVENT
DTSTART:20250227T010000Z
DTEND:20250227T030000Z
X-MICROSOFT-CDO-ALLDAYEVENT:FALSE
SUMMARY:Business After Hours
DESCRIPTION:Business After Hours occurs on the last Wednesday of every month at a rotating business\, starting at 5:00pm.  This is a great opportunity to network and mingle with fellow chamber members.  \n\nOur host this month is the Sandpoint Community Resource EnVision Center! They are partnering with The Hive to bring the Business After Hours event to the heart of Downtown Sandpoint on First Avenue!\n\n\n\nJoin the Community Resource EnVision Center for the Business After Hours event on Wednesday\, February 26th\, from 5 7 PM at The Hive in downtown Sandpoint. Connect with local professionals\, explore The Hive\, and hear from Executive Director Katie Begalke about the EnVision Center's vision for a nonprofit and economic hub in Bonner County.\n\n\n\nThis is a great opportunity to network and mingle with fellow chamber members.
X-ALT-DESC;FMTTYPE=text/html:Business After Hours occurs on the last Wednesday of every month at a rotating business\, starting at 5:00pm.&nbsp\; This is a great opportunity to network and mingle with fellow chamber members.&nbsp\;&nbsp\;<br />\nOur host this month is the Sandpoint Community Resource EnVision Center! They are partnering with The Hive to bring the Business After Hours event to the heart of Downtown Sandpoint on First Avenue!<br />\n<br />\n<span style="color: rgb(51\, 51\, 51)\; font-family: sans-serif\, Arial\, Verdana\, &quot\;Trebuchet MS&quot\;\; font-size: 13px\; background-color: rgb(255\, 255\, 255)\;">Join the Community Resource EnVision Center for the Business After Hours event on Wednesday\, February 26th\, from 5&ndash\;7 PM at The Hive in downtown Sandpoint. Connect with local professionals\, explore The Hive\, and hear from Executive Director Katie Begalke about the EnVision Center&rsquo\;s vision for a nonprofit and economic hub in Bonner County.</span><br />\n<br />\nThis is a great opportunity to network and mingle with fellow chamber members.&nbsp\;
LOCATION:The Hive\, 207 N First Avenue\, Sandpoint
UID:e.17.15804
SEQUENCE:3
DTSTAMP:20260422T074135Z
URL:https://members.sandpointchamber.org/events/details/business-after-hours-02-26-2025-15804
END:VEVENT

END:VCALENDAR
