BEGIN:VCALENDAR
VERSION:2.0
PRODID:-//ChamberMaster//Event Calendar 2.0//EN
METHOD:PUBLISH
X-PUBLISHED-TTL:P3D
REFRESH-INTERVAL:P3D
CALSCALE:GREGORIAN
BEGIN:VEVENT
DTSTART:20260508T153000Z
DTEND:20260508T163000Z
X-MICROSOFT-CDO-ALLDAYEVENT:FALSE
SUMMARY:Chamber Coffee & Connect-May
DESCRIPTION:The Chamber Coffee & Connect is a fantastic\, free way to explore the benefits of Chamber membership.\n\n\n\nOn the second Friday of every month\, we meet in the morning at the Chamber of Commerce. The Chamber Coffee & Connect is open to both existing and prospective members.\n\n\n\nAlready a part of the Chamber? Bring a friend who may be interested in joining our thriving network of more than 300 businesses! \n\n\n\nEvans Brothers Coffee Roasters generously donates the coffee.\n\nThis event has a Chamber member co-host! This month's co-host is LEXAR HOMES. \n\n\n\nWe would love to line up some co-hosts for the future! If you would like to participate\, please email us at info@sandpointchamber.com
X-ALT-DESC;FMTTYPE=text/html:<p><strong>The Chamber Coffee &amp\; Connect</strong>&nbsp\;is a<strong><u>&nbsp\;fantastic\, free way to explore the benefits of Chamber membership.</u></strong><br />\n<br />\n<strong>On the second Friday of every month\, we meet in the morning at the Chamber of Commerce.&nbsp\;</strong>The Chamber Coffee &amp\; Connect is&nbsp\;<u><strong>open to both existing and prospective members</strong>.</u><br />\n<br />\n<strong>Already a part of the Chamber?</strong>&nbsp\;Bring a friend who may be interested in joining our thriving network of more than 300 businesses!&nbsp\;<br />\n<br />\n<strong>Evans Brothers Coffee Roasters generously donates the coffee.<br />\nThis event has a Chamber member co-host!&nbsp\;</strong>This month&#39\;s co-host is<strong>&nbsp\;LEXAR HOMES.&nbsp\;</strong><br />\n<br />\nWe would love to line up some co-hosts for the future! If you would like to participate\, please email us at info@sandpointchamber.com&nbsp\;</p>\n
LOCATION:The Greater Sandpoint Chamber of Commerce 1202 Fifth Ave.\, Sandpoint ID 83864
UID:e.17.17177
SEQUENCE:3
DTSTAMP:20260425T235451Z
URL:https://members.sandpointchamber.org/events/details/chamber-coffee-connect-may-17177
END:VEVENT

END:VCALENDAR
