BEGIN:VCALENDAR
VERSION:2.0
PRODID:-//ChamberMaster//Event Calendar 2.0//EN
METHOD:PUBLISH
X-PUBLISHED-TTL:P3D
REFRESH-INTERVAL:P3D
CALSCALE:GREGORIAN
BEGIN:VEVENT
DTSTART:20260509T190000Z
DTEND:20260509T220000Z
X-MICROSOFT-CDO-ALLDAYEVENT:FALSE
SUMMARY:Renew & Refresh- Volunteer Day to Spruce Up Chamber/Visitor Center Grounds
DESCRIPTION:Volunteer to spruce up the Chamber/Visitor Center grounds! Please bring your gardening gloves\, tools\, brooms\, buckets\, sponges\, etc. Snacks and water will be provided.
X-ALT-DESC;FMTTYPE=text/html:Volunteer to spruce up the Chamber/Visitor Center grounds! Please bring your gardening gloves\, tools\, brooms\, buckets\, sponges\, etc. Snacks and water will be provided.
LOCATION:1202 N. 5th Ave\, Sandpoint ID 83864
UID:e.17.17202
SEQUENCE:3
DTSTAMP:20260425T222032Z
URL:https://members.sandpointchamber.org/events/details/renew-refresh-volunteer-day-to-spruce-up-chamber-visitor-center-grounds-17202
END:VEVENT

END:VCALENDAR
