BEGIN:VCALENDAR
VERSION:2.0
PRODID:-//ChamberMaster//Event Calendar 2.0//EN
METHOD:PUBLISH
X-PUBLISHED-TTL:P3D
REFRESH-INTERVAL:P3D
CALSCALE:GREGORIAN
BEGIN:VEVENT
DTSTART:20260509T190000Z
DTEND:20260509T220000Z
X-MICROSOFT-CDO-ALLDAYEVENT:FALSE
SUMMARY:Renew & Refresh- Volunteer to Spruce Up Chamber Grounds
DESCRIPTION:Volunteer to spruce up the Chamber grounds! Please bring your own gloves\, knee pads and gardening tools. Snacks and water are provided.
X-ALT-DESC;FMTTYPE=text/html:Volunteer to spruce up the Chamber grounds! Please bring your own gloves\, knee pads and gardening tools. Snacks and water are provided.
LOCATION:1202 N. 5th Ave\, Sandpoint ID 83864
UID:e.17.17202
SEQUENCE:3
DTSTAMP:20260420T231442Z
URL:https://members.sandpointchamber.org/events/details/renew-refresh-volunteer-to-spruce-up-chamber-grounds-17202
END:VEVENT

END:VCALENDAR
